BEGIN:VCALENDAR
VERSION:2.0
PRODID:-//wp-events-plugin.com//7.2.3.1//EN
TZID:Europe/Berlin
X-WR-TIMEZONE:Europe/Berlin
BEGIN:VEVENT
UID:224@musikakademie-spieler.de
DTSTART;TZID=Europe/Berlin:20191116T100000
DTEND;TZID=Europe/Berlin:20191116T170000
DTSTAMP:20191029T055105Z
URL:https://www.musikakademie-spieler.de/seminare/k2-singen-und-musizieren
 -mit-kindern/
SUMMARY:K2 - Singen und Musizieren mit Kindern
DESCRIPTION:Die Workshops richten sich an alle\, die mit Kindern musizieren
  oder in diese Arbeit einsteigen möchten: Lehrkräfte\, Kinderchorleiter/
 Innen\, Ensembleleiter/Innen\, Moderator/Innen von kleinen Singgruppen. Je
 der Tag gliedert sich in zwei Abschnitte:\n\n\n 	Liederarbeitung in Theori
 e und Praxis unter besonderer Berücksichtigung von Textauswahl\, Melodie\
 , Harmonie\, Einsatz von einfachen Instrumenten\, Körperinstrumente\n 	Ke
 nnenlernen bzw. Vertiefen der Arbeit mit dem Lehrerordner (LeO) „Kinder 
 und Musik“: Musizieren mit Kindern - Ziele und praktische Anregungen\; M
 aterialsammlung - breites Angebot an Liedern und Kanons\; ergänzende Begl
 eitsätze zum Kinderliederbuch\; Stundenbilder - exemplarische Stundenabl
 äufe\; Anhang – Elternbrief\; Hinweise weiterführende Fachliteratur\n\
 n&nbsp\;\nUmrahmt werden beide Themen von Übungen aus den Fortbildungsste
 inen „Gemeinschaftsbildung“ und „Stilleübungen“.\nDozent/inn/en: 
 Dagmar Berg\, Birgit Beuke\, Rita Brockschmidt\, Maren Krebs\, Dirk Pfau
CATEGORIES:Kinder
LOCATION:Gütersloh\, Johann-Sewerin-Straße 1 \, Gütersloh\, Nordrhein-We
 stfalen\, 33330\, Deutschland
GEO:51.90898;8.36908
X-APPLE-STRUCTURED-LOCATION;VALUE=URI;X-ADDRESS=Johann-Sewerin-Straße 1 \,
  Gütersloh\, Nordrhein-Westfalen\, 33330\, Deutschland;X-APPLE-RADIUS=100
 ;X-TITLE=Gütersloh:geo:51.90898,8.36908
END:VEVENT
BEGIN:VTIMEZONE
TZID:Europe/Berlin
X-LIC-LOCATION:Europe/Berlin
BEGIN:STANDARD
DTSTART:20191027T020000
TZOFFSETFROM:+0200
TZOFFSETTO:+0100
TZNAME:CET
END:STANDARD
END:VTIMEZONE
END:VCALENDAR