BEGIN:VCALENDAR
VERSION:2.0
PRODID:-//wp-events-plugin.com//7.2.3.1//EN
TZID:Europe/Berlin
X-WR-TIMEZONE:Europe/Berlin
BEGIN:VEVENT
UID:330@musikakademie-spieler.de
DTSTART;TZID=Europe/Berlin:20230909T100000
DTEND;TZID=Europe/Berlin:20230909T170000
DTSTAMP:20230824T172744Z
URL:https://www.musikakademie-spieler.de/seminare/d7-leitung-von-gemeindee
 nsembles-2/
SUMMARY:D7 - Leitung von Gemeindeensembles
DESCRIPTION:Die Praxis des instrumentalen Musizierens auf Gemeindeebene ste
 llt die Ensembleleiterinnen und -leiter im Hinblick auf sehr unterschiedli
 che\, manchmal nicht ideale Besetzungen und ungleiche Leistungsstufen der 
 Musizierenden vor besondere Herausforderungen. Die Workshops geben einen 
 Überblick über die Themen Literatur-Auswahl\, Instrumentenkunde/Instrume
 ntation und Dirigiertechnik.
CATEGORIES:Dirigieren,Leitung von Gemeindeensembles
LOCATION:Mainz (Mainz)\, Mainz\, Mainz\, Rheinland-Pfalz\, 55116\, Deutschl
 and
X-APPLE-STRUCTURED-LOCATION;VALUE=URI;X-ADDRESS=Mainz\, Mainz\, Rheinland-P
 falz\, 55116\, Deutschland;X-APPLE-RADIUS=100;X-TITLE=Mainz (Mainz):geo:0,
 0
END:VEVENT
BEGIN:VTIMEZONE
TZID:Europe/Berlin
X-LIC-LOCATION:Europe/Berlin
BEGIN:DAYLIGHT
DTSTART:20230326T030000
TZOFFSETFROM:+0100
TZOFFSETTO:+0200
TZNAME:CEST
END:DAYLIGHT
END:VTIMEZONE
END:VCALENDAR