BEGIN:VCALENDAR
VERSION:2.0
PRODID:-//wp-events-plugin.com//7.2.3.1//EN
TZID:Europe/Berlin
X-WR-TIMEZONE:Europe/Berlin
BEGIN:VEVENT
UID:271@musikakademie-spieler.de
DTSTART;TZID=Europe/Berlin;VALUE=DATE:20210423
DTEND;TZID=Europe/Berlin;VALUE=DATE:20210425
DTSTAMP:20210104T112605Z
URL:https://www.musikakademie-spieler.de/seminare/d2-chorleitung-kompakt-a
 ufbaustufe-9/
SUMMARY:D2 - Chorleitung kompakt – Aufbaustufe
DESCRIPTION:„Chorleitung kompakt“ – Kurs in sechs Teilen\nFür alle\,
  die in kompakter\, effektiver und angenehmer Form die Grundlagen der Chor
 leitung erlernen oder ihre Arbeit als Chorleitende verbessern möchten\, u
 m eine gute und lebendige Chorarbeit leisten zu können\, bieten wir den s
 echsteiligen Kurs „Chorleitung kompakt“ an. Die Seminare bauen aufeina
 nder auf\, können aber auch einzeln gebucht werden. Unterrichtet werden D
 irigiertechnik\, Gehörbildung\, chorische Stimmbildung und Einsingen\, Pr
 obengestaltung und –methodik\, Musikgeschichte und Stilkunde. Die Arbeit
  an ausgewählter Chorliteratur hat einen hohen Praxisbezug und der Einsat
 z von Video-Technik soll beim Erkennen von Fehlern helfen und das häuslic
 he Nacharbeiten erleichtern. Die sechste Arbeitsphase widmet sich der Verm
 ittlung von Musik in Probe und Aufführung.\n\nD2 - Aufbaustufe\nDas Semin
 ar vertieft die Kenntnisse des ersten Kurses und erweitert diese um zusät
 zliche Dirigierbilder. Wir arbeiten an der Unabhängigkeit der Hände und 
 an differenzierten Gestaltungsmöglichkeiten der Chormusik\, z.B. Tempowec
 hsel\, Führen verschiedener Stimmen. Die Teilnehmenden lernen weitere Mö
 glichkeiten der Klanggestaltung durch Stimmbildung kennen und vertiefen ih
 re Fertigkeiten in der Chorprobengestaltung und im musikalischen Ausdruck.
  Weitere Hinweise zur Musiktheorie ergänzen den Kurs.
CATEGORIES:Dirigieren
LOCATION:Köln (Dom)\, Domkloster 4\, Köln\, Nordrhein-Westfalen\, 50667\,
  Deutschland
GEO:50.937531;6.960279
X-APPLE-STRUCTURED-LOCATION;VALUE=URI;X-ADDRESS=Domkloster 4\, Köln\, Nord
 rhein-Westfalen\, 50667\, Deutschland;X-APPLE-RADIUS=100;X-TITLE=Köln (Do
 m):geo:50.937531,6.960279
END:VEVENT
BEGIN:VTIMEZONE
TZID:Europe/Berlin
X-LIC-LOCATION:Europe/Berlin
BEGIN:DAYLIGHT
DTSTART:20210328T030000
TZOFFSETFROM:+0100
TZOFFSETTO:+0200
TZNAME:CEST
END:DAYLIGHT
END:VTIMEZONE
END:VCALENDAR